BEGIN:VCALENDAR
VERSION:2.0
PRODID:-//Staunton Parish Council//Meeting Calendar//EN
CALSCALE:GREGORIAN
METHOD:PUBLISH
BEGIN:VEVENT
UID:70444-20240109@staunton-pc.gov.uk
DTSTAMP:20260422T083125Z
DTSTART;VALUE=DATE:20240109
DTEND;VALUE=DATE:20240110
SUMMARY:Full Council Meeting &#8211\\; 9 January 2024
DESCRIPTION:Full Council Meeting\nView details: https://staunton-pc.gov.uk/meetings/full-council-meeting-9-january-2024/
URL:https://staunton-pc.gov.uk/meetings/full-council-meeting-9-january-2024/
END:VEVENT
END:VCALENDAR
